BEGIN:VCALENDAR
VERSION:2.0
PRODID:cabaretvoltaire.ch
BEGIN:VEVENT
UID:69eb5d57df0e5
DTSTART:20200312T230000Z
SEQUENCE:0
TRANSP:OPAQUE
DTEND:20200315T225959Z
URL:https://cabaretvoltaire.ch/#node-2022-en
LOCATION:Cabaret Voltaire
SUMMARY:Opening weekend
CLASS:PUBLIC
DTSTAMP:20260424T120855Z
END:VEVENT
END:VCALENDAR