BEGIN:VCALENDAR
VERSION:2.0
PRODID:cabaretvoltaire.ch
BEGIN:VEVENT
UID:69ecb9614b6b9
DTSTART:20201002T160000Z
SEQUENCE:0
TRANSP:OPAQUE
DTEND:20201002T215959Z
URL:https://cabaretvoltaire.ch/#node-1979-en
LOCATION:Cabaret Voltaire
SUMMARY:Exhibition opening Agnes Scherer «The Teacher»
CLASS:PUBLIC
DTSTAMP:20260425T125353Z
END:VEVENT
END:VCALENDAR