BEGIN:VCALENDAR
VERSION:2.0
PRODID:cabaretvoltaire.ch
BEGIN:VEVENT
UID:69e89d0d08031
DTSTART:20201002T160000Z
SEQUENCE:0
TRANSP:OPAQUE
DTEND:20201002T215959Z
URL:https://cabaretvoltaire.ch/#node-1979-de
LOCATION:Cabaret Voltaire
SUMMARY:Ausstellungseröffnung Agnes Scherer  «The Teacher»
CLASS:PUBLIC
DTSTAMP:20260422T100357Z
END:VEVENT
END:VCALENDAR