BEGIN:VCALENDAR
VERSION:2.0
PRODID:cabaretvoltaire.ch
BEGIN:VEVENT
UID:69e89e0e713a9
DTSTART:20200612T220000Z
SEQUENCE:0
TRANSP:OPAQUE
DTEND:20200613T215959Z
URL:https://cabaretvoltaire.ch/#node-1968-en
LOCATION:Cabaret Voltaire
SUMMARY:Postponed: New body sensations: Sexuality in the intoxication of mo
 vement and music
CLASS:PUBLIC
DTSTAMP:20260422T100814Z
END:VEVENT
END:VCALENDAR