BEGIN:VCALENDAR
VERSION:2.0
PRODID:cabaretvoltaire.ch
BEGIN:VEVENT
UID:69e89d0a7e092
DTSTART:20200612T220000Z
SEQUENCE:0
TRANSP:OPAQUE
DTEND:20200613T215959Z
URL:https://cabaretvoltaire.ch/#node-1968-de
LOCATION:Cabaret Voltaire
SUMMARY:Verschoben: Neue Körperempfindungen: Sexualität im Rausch von Bew
 egung und Musik
CLASS:PUBLIC
DTSTAMP:20260422T100354Z
END:VEVENT
END:VCALENDAR