BEGIN:VCALENDAR
VERSION:2.0
PRODID:cabaretvoltaire.ch
BEGIN:VEVENT
UID:69eb219408fbb
DTSTART:20210301T230000Z
SEQUENCE:0
TRANSP:OPAQUE
DTEND:20210327T225959Z
URL:https://cabaretvoltaire.ch/#node-19147-de
LOCATION:Cabaret Voltaire
SUMMARY:Samuel Haitz\, «Memorabilia»
CLASS:PUBLIC
DTSTAMP:20260424T075356Z
END:VEVENT
END:VCALENDAR