BEGIN:VCALENDAR
VERSION:2.0
PRODID:cabaretvoltaire.ch
BEGIN:VEVENT
UID:69e834bd1615f
DTSTART:20210309T190000Z
SEQUENCE:0
TRANSP:OPAQUE
DTEND:20210309T225959Z
URL:https://cabaretvoltaire.ch/#node-19057-de
LOCATION:Cabaret Voltaire
SUMMARY:Samuel Haitz – «Soirée 2 (After)»
CLASS:PUBLIC
DTSTAMP:20260422T023853Z
END:VEVENT
END:VCALENDAR