BEGIN:VCALENDAR
VERSION:2.0
PRODID:cabaretvoltaire.ch
BEGIN:VEVENT
UID:69e847d6b5086
DTSTART:20210302T190000Z
SEQUENCE:0
TRANSP:OPAQUE
DTEND:20210302T225959Z
URL:https://cabaretvoltaire.ch/#node-18923-de
LOCATION:Cabaret Voltaire
SUMMARY:Samuel Haitz – «Soirée 1 (Before)»
CLASS:PUBLIC
DTSTAMP:20260422T040022Z
END:VEVENT
END:VCALENDAR