BEGIN:VCALENDAR
VERSION:2.0
PRODID:cabaretvoltaire.ch
BEGIN:VEVENT
UID:69eb5de0bd64b
DTSTART:20210112T190000Z
SEQUENCE:0
TRANSP:OPAQUE
DTEND:20210112T225959Z
URL:https://cabaretvoltaire.ch/#node-16786-en
LOCATION:Cabaret Voltaire
SUMMARY:Postponed: Agnes Scherer\, «The Teacher»
CLASS:PUBLIC
DTSTAMP:20260424T121112Z
END:VEVENT
END:VCALENDAR