BEGIN:VCALENDAR
VERSION:2.0
PRODID:cabaretvoltaire.ch
BEGIN:VEVENT
UID:69ecb95f34bde
DTSTART:20210114T190000Z
SEQUENCE:0
TRANSP:OPAQUE
DTEND:20210114T225959Z
URL:https://cabaretvoltaire.ch/#node-16415-de
LOCATION:Cabaret Voltaire
SUMMARY:Verschoben: Agnes Scherer\, «The Teacher»
CLASS:PUBLIC
DTSTAMP:20260425T125351Z
END:VEVENT
END:VCALENDAR