BEGIN:VCALENDAR
VERSION:2.0
PRODID:cabaretvoltaire.ch
BEGIN:VEVENT
UID:69e89e0deb4b4
DTSTART:20210112T180000Z
SEQUENCE:0
TRANSP:OPAQUE
DTEND:20210112T225959Z
URL:https://cabaretvoltaire.ch/#node-16409-de
LOCATION:Cabaret Voltaire
SUMMARY:Verschoben: Agnes Scherer\, «The Teacher»
CLASS:PUBLIC
DTSTAMP:20260422T100813Z
END:VEVENT
END:VCALENDAR