BEGIN:VCALENDAR
VERSION:2.0
PRODID:cabaretvoltaire.ch
BEGIN:VEVENT
UID:69e89e0ea963d
DTSTART:20200616T180000Z
SEQUENCE:0
TRANSP:OPAQUE
DTEND:20200616T215959Z
URL:https://cabaretvoltaire.ch/#node-1459-de
LOCATION:Cabaret Voltaire
SUMMARY:Verschoben: Erste Konzerte
CLASS:PUBLIC
DTSTAMP:20260422T100814Z
END:VEVENT
END:VCALENDAR