BEGIN:VCALENDAR
VERSION:2.0
PRODID:cabaretvoltaire.ch
BEGIN:VEVENT
UID:69eb5d1e9a13c
DTSTART:20200526T180000Z
SEQUENCE:0
TRANSP:OPAQUE
DTEND:20200526T215959Z
URL:https://cabaretvoltaire.ch/#node-1379-en
LOCATION:Cabaret Voltaire
SUMMARY:Postponed: Cracking Up and Staging Down: Tickle and Tackle Stand Up
CLASS:PUBLIC
DTSTAMP:20260424T120758Z
END:VEVENT
END:VCALENDAR