BEGIN:VCALENDAR
VERSION:2.0
PRODID:cabaretvoltaire.ch
BEGIN:VEVENT
UID:69e89d78e2b63
DTSTART:20200512T180000Z
SEQUENCE:0
TRANSP:OPAQUE
DTEND:20200512T215959Z
URL:https://cabaretvoltaire.ch/#node-1343-de
LOCATION:Cabaret Voltaire
SUMMARY:Verschoben: Salon der Republik
CLASS:PUBLIC
DTSTAMP:20260422T100544Z
END:VEVENT
END:VCALENDAR