BEGIN:VCALENDAR
VERSION:2.0
PRODID:cabaretvoltaire.ch
BEGIN:VEVENT
UID:69eb5db717408
DTSTART:20260421T180000Z
SEQUENCE:0
TRANSP:OPAQUE
DTEND:20260421T215959Z
URL:https://cabaretvoltaire.ch/#node-129204-en
LOCATION:Cabaret Voltaire
SUMMARY:«Analytisches Kabarett» – Nr. 6: Is the Public Sphere Abolishi
 ng Itself? – With Kierkegaard\, Fraser\, and a Champagne Prosecco agains
 t TikTok / Review-Tour with !Mediengruppe Bitnik
CLASS:PUBLIC
DTSTAMP:20260424T121031Z
END:VEVENT
END:VCALENDAR