BEGIN:VCALENDAR
VERSION:2.0
PRODID:cabaretvoltaire.ch
BEGIN:VEVENT
UID:69eb5ccce4c1a
DTSTART:20260421T180000Z
SEQUENCE:0
TRANSP:OPAQUE
DTEND:20260421T215959Z
URL:https://cabaretvoltaire.ch/#node-129204-de
LOCATION:Cabaret Voltaire
SUMMARY:«Analytisches Kabarett» – Nr. 6: Schafft sich die Öffentlichk
 eit selbst ab? – Mit Kierkegaard\, Fraser und einem Champagnerprosecco g
 egen TikTok / Review-Tour mit !Mediengruppe Bitnik
CLASS:PUBLIC
DTSTAMP:20260424T120636Z
END:VEVENT
END:VCALENDAR