BEGIN:VCALENDAR
VERSION:2.0
PRODID:cabaretvoltaire.ch
BEGIN:VEVENT
UID:69eb5df91b5ed
DTSTART:20260302T230000Z
SEQUENCE:0
TRANSP:OPAQUE
DTEND:20260517T215959Z
URL:https://cabaretvoltaire.ch/#node-129161-en
LOCATION:Cabaret Voltaire
SUMMARY:Dada Showcase: Slot 15
CLASS:PUBLIC
DTSTAMP:20260424T121137Z
END:VEVENT
END:VCALENDAR