BEGIN:VCALENDAR
VERSION:2.0
PRODID:cabaretvoltaire.ch
BEGIN:VEVENT
UID:69eb5db80f35a
DTSTART:20260321T230000Z
SEQUENCE:0
TRANSP:OPAQUE
DTEND:20260322T225959Z
URL:https://cabaretvoltaire.ch/#node-129016-en
LOCATION:Cabaret Voltaire
SUMMARY:Collegium Novum Zürich: Isabel Mundry im Gespräch
CLASS:PUBLIC
DTSTAMP:20260424T121032Z
END:VEVENT
END:VCALENDAR