BEGIN:VCALENDAR
VERSION:2.0
PRODID:cabaretvoltaire.ch
BEGIN:VEVENT
UID:69eb5c84a381e
DTSTART:20260322T160000Z
SEQUENCE:0
TRANSP:OPAQUE
DTEND:20260322T225959Z
URL:https://cabaretvoltaire.ch/#node-129016-de
LOCATION:Cabaret Voltaire
SUMMARY:Collegium Novum Zürich: Isabel Mundry im Gespräch
CLASS:PUBLIC
DTSTAMP:20260424T120524Z
END:VEVENT
END:VCALENDAR