BEGIN:VCALENDAR
VERSION:2.0
PRODID:cabaretvoltaire.ch
BEGIN:VEVENT
UID:69eb5d19e4e2d
DTSTART:20260408T173000Z
SEQUENCE:0
TRANSP:OPAQUE
DTEND:20260408T215959Z
URL:https://cabaretvoltaire.ch/#node-128949-de
LOCATION:Cabaret Voltaire
SUMMARY:«Literarischer Club Zürich» – Roland Buti
CLASS:PUBLIC
DTSTAMP:20260424T120753Z
END:VEVENT
END:VCALENDAR