BEGIN:VCALENDAR
VERSION:2.0
PRODID:cabaretvoltaire.ch
BEGIN:VEVENT
UID:69eb5df9082e4
DTSTART:20260321T170000Z
SEQUENCE:0
TRANSP:OPAQUE
DTEND:20260321T225959Z
URL:https://cabaretvoltaire.ch/#node-128894-en
LOCATION:Cabaret Voltaire
SUMMARY:«Texte zum Nachdenken» with Slow Reading Club – «Lurker Moxie
  Heart»
CLASS:PUBLIC
DTSTAMP:20260424T121137Z
END:VEVENT
END:VCALENDAR