BEGIN:VCALENDAR
VERSION:2.0
PRODID:cabaretvoltaire.ch
BEGIN:VEVENT
UID:69eb5c820f7c8
DTSTART:20260305T190000Z
SEQUENCE:0
TRANSP:OPAQUE
DTEND:20260305T225959Z
URL:https://cabaretvoltaire.ch/#node-128302-de
LOCATION:Cabaret Voltaire
SUMMARY:«Hauptsache kein Zeitgeist» – Buchpremiere: Lesung und Gespräc
 h mit Hayat Erdoğan
CLASS:PUBLIC
DTSTAMP:20260424T120522Z
END:VEVENT
END:VCALENDAR