BEGIN:VCALENDAR
VERSION:2.0
PRODID:cabaretvoltaire.ch
BEGIN:VEVENT
UID:69eb5c818ca41
DTSTART:20260318T180000Z
SEQUENCE:0
TRANSP:OPAQUE
DTEND:20260318T225959Z
URL:https://cabaretvoltaire.ch/#node-128191-de
LOCATION:Cabaret Voltaire
SUMMARY:«dears\, write»
CLASS:PUBLIC
DTSTAMP:20260424T120521Z
END:VEVENT
END:VCALENDAR