BEGIN:VCALENDAR
VERSION:2.0
PRODID:cabaretvoltaire.ch
BEGIN:VEVENT
UID:69ecb95ea53d3
DTSTART:20260218T180000Z
SEQUENCE:0
TRANSP:OPAQUE
DTEND:20260218T225959Z
URL:https://cabaretvoltaire.ch/#node-128160-de
LOCATION:Cabaret Voltaire
SUMMARY:«dears\, write»
CLASS:PUBLIC
DTSTAMP:20260425T125350Z
END:VEVENT
END:VCALENDAR