BEGIN:VCALENDAR
VERSION:2.0
PRODID:cabaretvoltaire.ch
BEGIN:VEVENT
UID:69eb5c8527916
DTSTART:20260211T183000Z
SEQUENCE:0
TRANSP:OPAQUE
DTEND:20260211T225959Z
URL:https://cabaretvoltaire.ch/#node-128017-de
LOCATION:Cabaret Voltaire
SUMMARY:«Literarischer Club Zürich» – Bernhard Strobel
CLASS:PUBLIC
DTSTAMP:20260424T120525Z
END:VEVENT
END:VCALENDAR