BEGIN:VCALENDAR
VERSION:2.0
PRODID:cabaretvoltaire.ch
BEGIN:VEVENT
UID:69eb5d70e11e2
DTSTART:20260212T170000Z
SEQUENCE:0
TRANSP:OPAQUE
DTEND:20260212T225959Z
URL:https://cabaretvoltaire.ch/#node-127875-de
LOCATION:Cabaret Voltaire
SUMMARY:«The Psychedelic Salon»
CLASS:PUBLIC
DTSTAMP:20260424T120920Z
END:VEVENT
END:VCALENDAR