BEGIN:VCALENDAR
VERSION:2.0
PRODID:cabaretvoltaire.ch
BEGIN:VEVENT
UID:69eb5ccd89c2f
DTSTART:20260213T190000Z
SEQUENCE:0
TRANSP:OPAQUE
DTEND:20260213T225959Z
URL:https://cabaretvoltaire.ch/#node-127752-de
LOCATION:Cabaret Voltaire
SUMMARY:New Kyd\, «Political Marketplace!» – in Zusammenarbeit mit Tan
 zhaus Zürich
CLASS:PUBLIC
DTSTAMP:20260424T120637Z
END:VEVENT
END:VCALENDAR