BEGIN:VCALENDAR
VERSION:2.0
PRODID:cabaretvoltaire.ch
BEGIN:VEVENT
UID:69eb5d1e28bd4
DTSTART:20260414T170000Z
SEQUENCE:0
TRANSP:OPAQUE
DTEND:20260414T215959Z
URL:https://cabaretvoltaire.ch/#node-127714-de
LOCATION:Cabaret Voltaire
SUMMARY:Soireen «Im Kopf von F.G.» – Gespräch zu Friedrich Glauser mi
 t Christa Baumberger und Salome Hohl
CLASS:PUBLIC
DTSTAMP:20260424T120758Z
END:VEVENT
END:VCALENDAR