BEGIN:VCALENDAR
VERSION:2.0
PRODID:cabaretvoltaire.ch
BEGIN:VEVENT
UID:69ecb95e3be20
DTSTART:20260319T170000Z
SEQUENCE:0
TRANSP:OPAQUE
DTEND:20260319T225959Z
URL:https://cabaretvoltaire.ch/#node-127706-de
LOCATION:Cabaret Voltaire
SUMMARY:Soireen «Im Kopf von F.G.» – Bar und Drinks mit Selina Sigg
CLASS:PUBLIC
DTSTAMP:20260425T125350Z
END:VEVENT
END:VCALENDAR