BEGIN:VCALENDAR
VERSION:2.0
PRODID:cabaretvoltaire.ch
BEGIN:VEVENT
UID:69eb5cd19cc3a
DTSTART:20260217T170000Z
SEQUENCE:0
TRANSP:OPAQUE
DTEND:20260217T225959Z
URL:https://cabaretvoltaire.ch/#node-127664-de
LOCATION:Cabaret Voltaire
SUMMARY:Soireen «Im Kopf von F.G.» – Vernissage: «A ROYAL PRISONER»\
 , Mathieu Bessey
CLASS:PUBLIC
DTSTAMP:20260424T120641Z
END:VEVENT
END:VCALENDAR