BEGIN:VCALENDAR
VERSION:2.0
PRODID:cabaretvoltaire.ch
BEGIN:VEVENT
UID:69eb5db235666
DTSTART:20260118T180000Z
SEQUENCE:0
TRANSP:OPAQUE
DTEND:20260118T225959Z
URL:https://cabaretvoltaire.ch/#node-127280-de
LOCATION:Cabaret Voltaire
SUMMARY:OOR Saloon invites: Elaine Mitchener\, «The Body Is The Score – 
 1. Betty»
CLASS:PUBLIC
DTSTAMP:20260424T121026Z
END:VEVENT
END:VCALENDAR