BEGIN:VCALENDAR
VERSION:2.0
PRODID:cabaretvoltaire.ch
BEGIN:VEVENT
UID:69eb5d7193ceb
DTSTART:20251218T170000Z
SEQUENCE:0
TRANSP:OPAQUE
DTEND:20251218T225959Z
URL:https://cabaretvoltaire.ch/#node-126097-de
LOCATION:Cabaret Voltaire
SUMMARY:Eröffnung: «Suzanne Perrottet. After Dada\, After Dance»
CLASS:PUBLIC
DTSTAMP:20260424T120921Z
END:VEVENT
END:VCALENDAR