BEGIN:VCALENDAR
VERSION:2.0
PRODID:cabaretvoltaire.ch
BEGIN:VEVENT
UID:69eb5cd22f6de
DTSTART:20250924T170000Z
SEQUENCE:0
TRANSP:OPAQUE
DTEND:20250924T215959Z
URL:https://cabaretvoltaire.ch/#node-125264-de
LOCATION:Cabaret Voltaire
SUMMARY:«dears\, write»
CLASS:PUBLIC
DTSTAMP:20260424T120642Z
END:VEVENT
END:VCALENDAR