BEGIN:VCALENDAR
VERSION:2.0
PRODID:cabaretvoltaire.ch
BEGIN:VEVENT
UID:69ecb95dabd6a
DTSTART:20251008T220000Z
SEQUENCE:0
TRANSP:OPAQUE
DTEND:20251009T215959Z
URL:https://cabaretvoltaire.ch/#node-125228-de
LOCATION:Cabaret Voltaire
SUMMARY:«The Psychedelic Salon»
CLASS:PUBLIC
DTSTAMP:20260425T125349Z
END:VEVENT
END:VCALENDAR