BEGIN:VCALENDAR
VERSION:2.0
PRODID:cabaretvoltaire.ch
BEGIN:VEVENT
UID:69ecb99fab8be
DTSTART:20250918T160000Z
SEQUENCE:0
TRANSP:OPAQUE
DTEND:20250918T215959Z
URL:https://cabaretvoltaire.ch/#node-125185-de
LOCATION:Cabaret Voltaire
SUMMARY:«The Psychedelic Salon»
CLASS:PUBLIC
DTSTAMP:20260425T125455Z
END:VEVENT
END:VCALENDAR