BEGIN:VCALENDAR
VERSION:2.0
PRODID:cabaretvoltaire.ch
BEGIN:VEVENT
UID:69eb5cccdbba5
DTSTART:20250906T160000Z
SEQUENCE:0
TRANSP:OPAQUE
DTEND:20250906T000000Z
URL:https://cabaretvoltaire.ch/#node-125013-de
LOCATION:Cabaret Voltaire
SUMMARY:LANGE NACHT der Zürcher Museen 2025: «Psychologischer Club Dada»
CLASS:PUBLIC
DTSTAMP:20260424T120636Z
END:VEVENT
END:VCALENDAR