BEGIN:VCALENDAR
VERSION:2.0
PRODID:cabaretvoltaire.ch
BEGIN:VEVENT
UID:69eb2121adecc
DTSTART:20200825T180000Z
SEQUENCE:0
TRANSP:OPAQUE
DTEND:20200825T215959Z
URL:https://cabaretvoltaire.ch/#node-1249-en
LOCATION:Cabaret Voltaire
SUMMARY:Lara Dâmaso: Repetitions and Fadings
CLASS:PUBLIC
DTSTAMP:20260424T075201Z
END:VEVENT
END:VCALENDAR