BEGIN:VCALENDAR
VERSION:2.0
PRODID:cabaretvoltaire.ch
BEGIN:VEVENT
UID:69e89e2877e29
DTSTART:20250620T130000Z
SEQUENCE:0
TRANSP:OPAQUE
DTEND:20250620T183000Z
URL:https://cabaretvoltaire.ch/#node-124106-de
LOCATION:Cabaret Voltaire
SUMMARY:Mini-Symposium der ZHdK-Master Kulturpublizistik und Curatorial Stu
 dies
CLASS:PUBLIC
DTSTAMP:20260422T100840Z
END:VEVENT
END:VCALENDAR