BEGIN:VCALENDAR
VERSION:2.0
PRODID:cabaretvoltaire.ch
BEGIN:VEVENT
UID:69ecb961dec6e
DTSTART:20250625T181500Z
SEQUENCE:0
TRANSP:OPAQUE
DTEND:20250625T215959Z
URL:https://cabaretvoltaire.ch/#node-123995-de
LOCATION:Cabaret Voltaire
SUMMARY:Buchpräsentationen: «Flora Klein. Heat» & «Bea Schlingelhoff. I
 f you slap the water\, you hurt the heads of the fish»
CLASS:PUBLIC
DTSTAMP:20260425T125353Z
END:VEVENT
END:VCALENDAR