BEGIN:VCALENDAR
VERSION:2.0
PRODID:cabaretvoltaire.ch
BEGIN:VEVENT
UID:69e89e0dd37e8
DTSTART:20250613T160000Z
SEQUENCE:0
TRANSP:OPAQUE
DTEND:20250613T190000Z
URL:https://cabaretvoltaire.ch/#node-123743-en
LOCATION:Cabaret Voltaire
SUMMARY:Zurich Art Weekend 2025\, Opening: Art Installation by Philip Ortel
 li\, powered by Swatch Art Peace Hotel
CLASS:PUBLIC
DTSTAMP:20260422T100813Z
END:VEVENT
END:VCALENDAR