BEGIN:VCALENDAR
VERSION:2.0
PRODID:cabaretvoltaire.ch
BEGIN:VEVENT
UID:69e89d0b7db0f
DTSTART:20250613T160000Z
SEQUENCE:0
TRANSP:OPAQUE
DTEND:20250613T190000Z
URL:https://cabaretvoltaire.ch/#node-123743-de
LOCATION:Cabaret Voltaire
SUMMARY:Zurich Art Weekend 2025\, Eröffnung: Kunstinstallation von Philip 
 Ortelli\, präsentiert vom Swatch Art Peace Hotel
CLASS:PUBLIC
DTSTAMP:20260422T100355Z
END:VEVENT
END:VCALENDAR