BEGIN:VCALENDAR
VERSION:2.0
PRODID:cabaretvoltaire.ch
BEGIN:VEVENT
UID:69ecb962e2293
DTSTART:20250521T160000Z
SEQUENCE:0
TRANSP:OPAQUE
DTEND:20250521T215959Z
URL:https://cabaretvoltaire.ch/#node-123276-de
LOCATION:Cabaret Voltaire
SUMMARY:guest_*talks-Reihe *NERGIES: Kim de l'Horizon im Gespräch mit Pasc
 ale Schreibmüller
CLASS:PUBLIC
DTSTAMP:20260425T125354Z
END:VEVENT
END:VCALENDAR