BEGIN:VCALENDAR
VERSION:2.0
PRODID:cabaretvoltaire.ch
BEGIN:VEVENT
UID:69ecb96231bc8
DTSTART:20250531T180000Z
SEQUENCE:0
TRANSP:OPAQUE
DTEND:20250531T215959Z
URL:https://cabaretvoltaire.ch/#node-123197-de
LOCATION:Cabaret Voltaire
SUMMARY:Open Stage – Zürich's Spotlight
CLASS:PUBLIC
DTSTAMP:20260425T125354Z
END:VEVENT
END:VCALENDAR