BEGIN:VCALENDAR
VERSION:2.0
PRODID:cabaretvoltaire.ch
BEGIN:VEVENT
UID:69ecb962aaa0d
DTSTART:20250613T190000Z
SEQUENCE:0
TRANSP:OPAQUE
DTEND:20250613T211500Z
URL:https://cabaretvoltaire.ch/#node-123131-de
LOCATION:Cabaret Voltaire
SUMMARY:Zurich Art Weekend 2025: «Each and every gesture» – Eine Zusam
 menarbeit zwischen Istituto Svizzero und Mousse
CLASS:PUBLIC
DTSTAMP:20260425T125354Z
END:VEVENT
END:VCALENDAR