BEGIN:VCALENDAR
VERSION:2.0
PRODID:cabaretvoltaire.ch
BEGIN:VEVENT
UID:69ecb960ebfdd
DTSTART:20250516T160000Z
SEQUENCE:0
TRANSP:OPAQUE
DTEND:20250516T215959Z
URL:https://cabaretvoltaire.ch/#node-122805-de
LOCATION:Cabaret Voltaire
SUMMARY:Eröffnung: Emma Jung & Rebecca Ackroyd\, «Tage und Nächte»
CLASS:PUBLIC
DTSTAMP:20260425T125352Z
END:VEVENT
END:VCALENDAR