BEGIN:VCALENDAR
VERSION:2.0
PRODID:cabaretvoltaire.ch
BEGIN:VEVENT
UID:69e89e0f50b9b
DTSTART:20200331T180000Z
SEQUENCE:0
TRANSP:OPAQUE
DTEND:20200331T215959Z
URL:https://cabaretvoltaire.ch/#node-1197-de
LOCATION:Cabaret Voltaire
SUMMARY:Verschoben: Cracking Up and Staging Down: Current Parroting und «e
 in weiblicher Humorist genannt Kobold»
CLASS:PUBLIC
DTSTAMP:20260422T100815Z
END:VEVENT
END:VCALENDAR