BEGIN:VCALENDAR
VERSION:2.0
PRODID:cabaretvoltaire.ch
BEGIN:VEVENT
UID:69e89e288bbab
DTSTART:20250408T180000Z
SEQUENCE:0
TRANSP:OPAQUE
DTEND:20250408T215959Z
URL:https://cabaretvoltaire.ch/#node-116555-de
LOCATION:Cabaret Voltaire
SUMMARY:«A Room of One’s Own» – Zeitgenössische Stimmen aus Forschun
 g und Literatur
CLASS:PUBLIC
DTSTAMP:20260422T100840Z
END:VEVENT
END:VCALENDAR