BEGIN:VCALENDAR
VERSION:2.0
PRODID:cabaretvoltaire.ch
BEGIN:VEVENT
UID:69ecbb4321f00
DTSTART:20250310T230000Z
SEQUENCE:0
TRANSP:OPAQUE
DTEND:20250427T215959Z
URL:https://cabaretvoltaire.ch/#node-115790-en
LOCATION:Cabaret Voltaire
SUMMARY:«Interlude: Act 2\, Hold The Sound – BaseCamp Library»
CLASS:PUBLIC
DTSTAMP:20260425T130155Z
END:VEVENT
END:VCALENDAR