BEGIN:VCALENDAR
VERSION:2.0
PRODID:cabaretvoltaire.ch
BEGIN:VEVENT
UID:69e89e0f2d1a6
DTSTART:20201125T173000Z
SEQUENCE:0
TRANSP:OPAQUE
DTEND:20201125T225959Z
URL:https://cabaretvoltaire.ch/#node-11557-de
LOCATION:Cabaret Voltaire
SUMMARY:Online: «Wie denkt das Valley? – eine Ideengeschichte des Kapita
 lismus» – Wissen in Gesellschaft #25
CLASS:PUBLIC
DTSTAMP:20260422T100815Z
END:VEVENT
END:VCALENDAR