BEGIN:VCALENDAR
VERSION:2.0
PRODID:cabaretvoltaire.ch
BEGIN:VEVENT
UID:69ecbaa211f5b
DTSTART:20201111T173000Z
SEQUENCE:0
TRANSP:OPAQUE
DTEND:20201111T225959Z
URL:https://cabaretvoltaire.ch/#node-11515-en
LOCATION:Cabaret Voltaire
SUMMARY:Online: «Medizin nach COVID 19? – Gesundheit und Gesellschaft im
  Zeichen der Pandemie» – Wissen in Gesellschaft #23
CLASS:PUBLIC
DTSTAMP:20260425T125914Z
END:VEVENT
END:VCALENDAR